BEGIN:VCALENDAR
VERSION:2.0
PRODID: -//CMS 5.0 //NONSGML //DE
BEGIN:VEVENT
SUMMARY:Gottesdienst
DESCRIPTION:Gottesdienst mit Feier des Heiligen Abendmahls, Chorgesang, 
 Gemeindegesang und ggf. anderen musikalischen Beiträgen.\n\nGäste sin
 d herzlich eingeladen.\n\n\n\nhttps://leipzig-plagwitz.nak-nordost.de/d
 b/593776
UID:593776@leipzig-plagwitz.nak-nordost.de
LOCATION:Jens Bischoff
CATEGORIES:Gottesdienst
X-ORGANIZER:
STATUS:CONFIRMED
CLASS:PUBLIC
DTSTART:20260426T080000Z
DTEND:20260426T091500Z
DTSTAMP:20260424T141120Z
CREATED:20260312T080253Z
LAST-MODIFIED:20260328T094727Z
BEGIN:VALARM
UID:77E57B6C-3FE7-11F1-B74F-31B677372A87
TRIGGER:-PT60M
ACTION:DISPLAY
DESCRIPTION:SUMMARY:Gottesdienst
END:VALARM
END:VEVENT
END:VCALENDAR
