BEGIN:VCALENDAR
VERSION:2.0
PRODID: -//CMS 5.0 //NONSGML //DE
BEGIN:VEVENT
SUMMARY:Gottesdienst
DESCRIPTION:Gottesdienst mit Feier des Heiligen Abendmahls, Chorgesang, 
 Gemeindegesang und ggf. anderen musikalischen Beiträgen.\n\nGäste sin
 d herzlich eingeladen.\n\n\n\nhttps://leipzig-plagwitz.nak-nordost.de/d
 b/595105
UID:595105@leipzig-plagwitz.nak-nordost.de
LOCATION:Jens Bischoff
CATEGORIES:Gottesdienst
X-ORGANIZER:
STATUS:CONFIRMED
CLASS:PUBLIC
DTSTART:20260503T080000Z
DTEND:20260503T091500Z
DTSTAMP:20260424T141114Z
CREATED:20260319T080253Z
LAST-MODIFIED:20260328T094858Z
BEGIN:VALARM
UID:746FBCAE-3FE7-11F1-836F-7EB477372A87
TRIGGER:-PT60M
ACTION:DISPLAY
DESCRIPTION:SUMMARY:Gottesdienst
END:VALARM
END:VEVENT
END:VCALENDAR
