BEGIN:VCALENDAR
VERSION:2.0
PRODID: -//CMS 5.0 //NONSGML //DE
BEGIN:VEVENT
SUMMARY:Gottesdienst
DESCRIPTION:\n\n\n\nhttps://leipzig-plagwitz.nak-nordost.de/db/595513
UID:595513@leipzig-plagwitz.nak-nordost.de
LOCATION:Jens Bischoff
CATEGORIES:Gottesdienst
X-ORGANIZER:
STATUS:CONFIRMED
CLASS:PUBLIC
DTSTART:20260506T173000Z
DTEND:20260506T183000Z
DTSTAMP:20260424T141227Z
CREATED:20260322T180248Z
LAST-MODIFIED:20260322T180248Z
BEGIN:VALARM
UID:9FB067D8-3FE7-11F1-8326-E5C277372A87
TRIGGER:-PT60M
ACTION:DISPLAY
DESCRIPTION:SUMMARY:Gottesdienst
END:VALARM
END:VEVENT
END:VCALENDAR
