BEGIN:VCALENDAR
VERSION:2.0
PRODID: -//CMS 5.0 //NONSGML //DE
BEGIN:VEVENT
SUMMARY:Chorprobe nach dem Gottesdienst 
DESCRIPTION:\n\nhttps://leipzig-plagwitz.nak-nordost.de/db/596946
UID:596946@leipzig-plagwitz.nak-nordost.de
LOCATION:Jens Bischoff
CATEGORIES:
X-ORGANIZER:
STATUS:CONFIRMED
CLASS:PUBLIC
DTSTART:20260426T091500Z
DTEND:20260426T091500Z
DTSTAMP:20260424T141233Z
CREATED:20260328T094742Z
LAST-MODIFIED:20260328T094749Z
BEGIN:VALARM
UID:A3483574-3FE7-11F1-91B2-52E077372A87
TRIGGER:-PT60M
ACTION:DISPLAY
DESCRIPTION:SUMMARY:Chorprobe nach dem Gottesdienst 
END:VALARM
END:VEVENT
END:VCALENDAR
