BEGIN:VCALENDAR
VERSION:2.0
PRODID: -//CMS 5.0 //NONSGML //DE
BEGIN:VEVENT
SUMMARY:Instrumentalprobe
DESCRIPTION:\n\nhttps://leipzig-plagwitz.nak-nordost.de/db/596947
UID:596947@leipzig-plagwitz.nak-nordost.de
LOCATION:Jens Bischoff
CATEGORIES:
X-ORGANIZER:
STATUS:CONFIRMED
CLASS:PUBLIC
DTSTART:20260427T173000Z
DTEND:20260427T173000Z
DTSTAMP:20260424T141233Z
CREATED:20260328T094808Z
LAST-MODIFIED:20260328T094814Z
BEGIN:VALARM
UID:A3497416-3FE7-11F1-B091-02B877372A87
TRIGGER:-PT60M
ACTION:DISPLAY
DESCRIPTION:SUMMARY:Instrumentalprobe
END:VALARM
END:VEVENT
END:VCALENDAR
